BEGIN:VCALENDAR
PRODID:-//AT Content Types//AT Event//EN
VERSION:2.0
METHOD:PUBLISH
BEGIN:VEVENT
DTSTAMP:20260424T104137Z
CREATED:20150109T112559Z
UID:ATEvent-8aab9973536fb014ee6e75b0da1edbbb
LAST-MODIFIED:20200622T144825Z
SUMMARY:Knowledge Sharing Workshop UK
DTSTART:20150316T230000Z
DTEND:20150316T230000Z
CLASS:PUBLIC
END:VEVENT
END:VCALENDAR
